BEGIN:VCALENDAR
VERSION:2.0
PRODID:-//Glaven Valley Churches - ECPv5.0.2//NONSGML v1.0//EN
CALSCALE:GREGORIAN
METHOD:PUBLISH
X-WR-CALNAME:Glaven Valley Churches
X-ORIGINAL-URL:https://glavenvalleychurches.org.uk
X-WR-CALDESC:Events for Glaven Valley Churches
BEGIN:VTIMEZONE
TZID:UTC
BEGIN:STANDARD
TZOFFSETFROM:+0000
TZOFFSETTO:+0000
TZNAME:UTC
DTSTART:20190101T000000
END:STANDARD
END:VTIMEZONE
BEGIN:VEVENT
DTSTART;TZID=UTC:20190106T094500
DTEND;TZID=UTC:20190106T104500
DTSTAMP:20260421T143154
CREATED:20161227T184213Z
LAST-MODIFIED:20181206T104239Z
UID:2577-1546767900-1546771500@glavenvalleychurches.org.uk
SUMMARY:Sung Holy Communion (CW) at 9.45am
DESCRIPTION:Sung Holy Communion (CW) \n
URL:https://glavenvalleychurches.org.uk/event/sung-holy-communion-cw-2-2019-01-05/2019-01-06/
LOCATION:Blakeney Church
END:VEVENT
END:VCALENDAR