BEGIN:VCALENDAR
VERSION:2.0
PRODID:-//Glaven Valley Churches - ECPv5.0.2//NONSGML v1.0//EN
CALSCALE:GREGORIAN
METHOD:PUBLISH
X-WR-CALNAME:Glaven Valley Churches
X-ORIGINAL-URL:https://glavenvalleychurches.org.uk
X-WR-CALDESC:Events for Glaven Valley Churches
BEGIN:VTIMEZONE
TZID:UTC
BEGIN:STANDARD
TZOFFSETFROM:+0000
TZOFFSETTO:+0000
TZNAME:UTC
DTSTART:20190101T000000
END:STANDARD
END:VTIMEZONE
BEGIN:VEVENT
DTSTART;TZID=UTC:20190811T080000
DTEND;TZID=UTC:20190811T083000
DTSTAMP:20260421T161037
CREATED:20190724T180644Z
LAST-MODIFIED:20190724T180644Z
UID:3686-1565510400-1565512200@glavenvalleychurches.org.uk
SUMMARY:Holy Communion 8am St Mary's Church\, Wiveton
DESCRIPTION:
URL:https://glavenvalleychurches.org.uk/event/holy-communion-8am-st-marys-church-wiveton/
CATEGORIES:Benefice,St Mary's Church - Wiveton
END:VEVENT
END:VCALENDAR