BEGIN:VCALENDAR
VERSION:2.0
PRODID:-//Glaven Valley Churches - ECPv5.0.2//NONSGML v1.0//EN
CALSCALE:GREGORIAN
METHOD:PUBLISH
X-WR-CALNAME:Glaven Valley Churches
X-ORIGINAL-URL:https://glavenvalleychurches.org.uk
X-WR-CALDESC:Events for Glaven Valley Churches
BEGIN:VTIMEZONE
TZID:UTC
BEGIN:STANDARD
TZOFFSETFROM:+0000
TZOFFSETTO:+0000
TZNAME:UTC
DTSTART:20190101T000000
END:STANDARD
END:VTIMEZONE
BEGIN:VEVENT
DTSTART;TZID=UTC:20190728T183000
DTEND;TZID=UTC:20190728T193000
DTSTAMP:20260423T085942
CREATED:20190724T173216Z
LAST-MODIFIED:20190724T173216Z
UID:3676-1564338600-1564342200@glavenvalleychurches.org.uk
SUMMARY:Evensong at 6.30pm at St Martin's Church\, Glandford
DESCRIPTION:
URL:https://glavenvalleychurches.org.uk/event/evensong-at-6-30pm-at-st-martins-church-glandford-2/
CATEGORIES:Benefice,St Martin's Church - Glandford
END:VEVENT
END:VCALENDAR