BEGIN:VCALENDAR
VERSION:2.0
PRODID:-//Glaven Valley Churches - ECPv5.0.2//NONSGML v1.0//EN
CALSCALE:GREGORIAN
METHOD:PUBLISH
X-WR-CALNAME:Glaven Valley Churches
X-ORIGINAL-URL:https://glavenvalleychurches.org.uk
X-WR-CALDESC:Events for Glaven Valley Churches
BEGIN:VTIMEZONE
TZID:UTC
BEGIN:STANDARD
TZOFFSETFROM:+0000
TZOFFSETTO:+0000
TZNAME:UTC
DTSTART:20180101T000000
END:STANDARD
END:VTIMEZONE
BEGIN:VEVENT
DTSTART;TZID=UTC:20181225T110000
DTEND;TZID=UTC:20181225T120000
DTSTAMP:20260421T100011
CREATED:20181017T100404Z
LAST-MODIFIED:20181017T100404Z
UID:2540-1545735600-1545739200@glavenvalleychurches.org.uk
SUMMARY:Christmas Morning Service with Carols at 11.00am
DESCRIPTION:
URL:https://glavenvalleychurches.org.uk/event/christmas-morning-service-carols-11-00am/
END:VEVENT
END:VCALENDAR