BEGIN:VCALENDAR
VERSION:2.0
PRODID:-//Glaven Valley Churches - ECPv5.0.2//NONSGML v1.0//EN
CALSCALE:GREGORIAN
METHOD:PUBLISH
X-WR-CALNAME:Glaven Valley Churches
X-ORIGINAL-URL:https://glavenvalleychurches.org.uk
X-WR-CALDESC:Events for Glaven Valley Churches
BEGIN:VTIMEZONE
TZID:UTC
BEGIN:STANDARD
TZOFFSETFROM:+0000
TZOFFSETTO:+0000
TZNAME:UTC
DTSTART:20260101T000000
END:STANDARD
END:VTIMEZONE
BEGIN:VEVENT
DTSTART;TZID=UTC:20260809T111500
DTEND;TZID=UTC:20260809T120000
DTSTAMP:20260420T042018
CREATED:20190119T175957Z
LAST-MODIFIED:20190119T175957Z
UID:8709-1786274100-1786276800@glavenvalleychurches.org.uk
SUMMARY:Children and Families Service at 11.15am at St Margaret's Church\, Cley
DESCRIPTION:
URL:https://glavenvalleychurches.org.uk/event/children-and-families-service-at-11-15am-at-st-margarets-church-cley/2026-08-09/
CATEGORIES:St Margaret's Church - Cley
END:VEVENT
END:VCALENDAR